BEGIN:VCALENDAR
VERSION:2.0
PRODID:-//wp-events-plugin.com//7.2.3.1//EN
BEGIN:VEVENT
UID:329@cvt.org
DTSTART;VALUE=DATE:20241216
DTEND;VALUE=DATE:20250108
DTSTAMP:20241125T224419Z
URL:https://www.cvt.org/events/closed-3/
SUMMARY:CLOSED
DESCRIPTION:We will be closed during these days.
END:VEVENT
END:VCALENDAR