BEGIN:VCALENDAR
VERSION:2.0
PRODID:-//wp-events-plugin.com//7.2.3.1//EN
BEGIN:VEVENT
UID:285@cvt.org
DTSTART:20240723T150000Z
DTEND:20240723T170000Z
DTSTAMP:20240320T011421Z
URL:https://www.cvt.org/events/cvt-united-soccer-club-3-2024-07-23/
SUMMARY:CVT United (Soccer Club)
DESCRIPTION:Meet at SPHC at 3:00.\n\nClick Here for Directions\n\nWe will w
 alk to a nearby park (Carty Park) for community and casual soccer scrimmag
 e. Free. Men’s and women’s groups. Snacks\, water\, and Gatorade provi
 ded. Contact us if you do not have appropriate clothing or shoes for this 
 activity. Contact Mimi at mstarks@cvt.org for more information.\n\nClick H
 ere for more information.
END:VEVENT
END:VCALENDAR